BEGIN:VCALENDAR
VERSION:2.0
PRODID:-//Tide to Town - ECPv6.15.20//NONSGML v1.0//EN
CALSCALE:GREGORIAN
METHOD:PUBLISH
X-ORIGINAL-URL:https://tidetotown.org
X-WR-CALDESC:Events for Tide to Town
REFRESH-INTERVAL;VALUE=DURATION:PT1H
X-Robots-Tag:noindex
X-PUBLISHED-TTL:PT1H
BEGIN:VTIMEZONE
TZID:UTC
BEGIN:STANDARD
TZOFFSETFROM:+0000
TZOFFSETTO:+0000
TZNAME:UTC
DTSTART:20190101T000000
END:STANDARD
END:VTIMEZONE
BEGIN:VEVENT
DTSTART;TZID=UTC:20211023T100000
DTEND;TZID=UTC:20211023T120000
DTSTAMP:20260423T052446
CREATED:20210924T140013Z
LAST-MODIFIED:20210924T144726Z
UID:601-1634983200-1634990400@tidetotown.org
SUMMARY:Love Your Trail Day at Truman Linear Park Trail
DESCRIPTION:Show your love for the Truman Linear Park Trail! Join us as we pick up litter\, collect recycling\, and make sure the trail remains in great shape. All tools and supplies will be provided. Meet at the Scarborough Sports Complex\, located at the corner of Skidaway Road and Bona Bella Avenue. For more information\, email friends@tidetotown.org.
URL:https://tidetotown.org/event/love-your-trail-day-at-truman-linear-park-trail/
LOCATION:Scarborough Sports Complex\, Skidaway Road at Bona Bella Ave\, Savannah\, GA\, 31406\, United States
CATEGORIES:Trail Cleanup
ATTACH;FMTTYPE=image/png:https://tidetotown.org/wp-content/uploads/2021/09/Heart-Your-Trail-Day_Autumn_Autumn-e1632494834174.png
END:VEVENT
BEGIN:VEVENT
DTSTART;TZID=UTC:20210605T100000
DTEND;TZID=UTC:20210605T120000
DTSTAMP:20260423T052446
CREATED:20210601T135226Z
LAST-MODIFIED:20210601T135519Z
UID:573-1622887200-1622894400@tidetotown.org
SUMMARY:Love Your Trail Day: Truman Linear Park Trail
DESCRIPTION:The first Saturday in June is National Trails Day\, so celebrate with us! We will pick up any litter and collect recycling\, trim vegetation\, and make sure Truman Linear Park Trail Phase 2A is in tiptop shape. Tools\, supplies\, and refreshments will be provided. Meet at the Scarborough Sports Complex\, located at the corner of Skidaway Road and Bona Bella Avenue.
URL:https://tidetotown.org/event/love-your-trail-day-truman-linear-park-trail-3/
LOCATION:Scarborough Sports Complex\, Skidaway Road at Bona Bella Ave\, Savannah\, GA\, 31406\, United States
CATEGORIES:Trail Cleanup
ATTACH;FMTTYPE=image/png:https://tidetotown.org/wp-content/uploads/2021/06/052021-Heart-Your-Trail-Day_Purple-1-e1622555663857.png
ORGANIZER;CN="Friends of Tide to Town":MAILTO:friends@tidetotown.org
END:VEVENT
BEGIN:VEVENT
DTSTART;TZID=UTC:20210306T130000
DTEND;TZID=UTC:20210306T150000
DTSTAMP:20260423T052446
CREATED:20201224T142149Z
LAST-MODIFIED:20210301T200132Z
UID:471-1615035600-1615042800@tidetotown.org
SUMMARY:Love Your Trail Day: Truman Linear Park Trail
DESCRIPTION:Truman Linear Park Trail Phase 2A is the Savannah area’s newest trail and we want to keep it neat and tidy. Join us as we pick up any litter and collect recycling\, trim vegetation\, and make sure the trail is in tiptop shape. All tools and supplies will be provided. We will be spatially distanced\, but masks are required. Meet at the Scarborough Sports Complex\, located at the corner of Skidaway Road and Bona Bella Avenue
URL:https://tidetotown.org/event/love-your-trail-day-truman-linear-park-trail-2/
LOCATION:Scarborough Sports Complex\, Skidaway Road at Bona Bella Ave\, Savannah\, GA\, 31406\, United States
CATEGORIES:Trail Cleanup
ATTACH;FMTTYPE=image/jpeg:https://tidetotown.org/wp-content/uploads/2020/12/03_21-Heart-Your-Trail-Day-02.jpg
ORGANIZER;CN="Friends of Tide to Town":MAILTO:friends@tidetotown.org
END:VEVENT
BEGIN:VEVENT
DTSTART;TZID=UTC:20210107T130000
DTEND;TZID=UTC:20210107T143000
DTSTAMP:20260423T052446
CREATED:20201224T143118Z
LAST-MODIFIED:20201224T143118Z
UID:474-1610024400-1610029800@tidetotown.org
SUMMARY:Enmarket Encourage Health Live Series Explores Healthy Walking Routes
DESCRIPTION:The Enmarket Encourage Health Educational Series\, in partnership with Healthy Savannah\, will stream its next live broadcast on Jan. 7 exploring “Activity-Friendly Routes to Everyday Destinations.” Also sponsored by Center Parc Credit Union\, the program will live-stream at 1 p.m. on Healthy Savannah’s Facebook page  and will be streamed on Enmarket’s Facebook page. The program will be rebroadcast at a later date on the City of Savannah’s Government Channel and on Savannah Now Podcasts.\n\nOn this second installment of the 2020-21 series\, Armand Turner will outline strategies for creating walking- and bike-friendly routes to everyday destinations in the Savannah area\, including Tide to Town’s Truman Linear Park Trail Phase 2A. Turner is Healthy Savannah / YMCA of Coastal Georgia Physical Activity Program Manager. More information.
URL:https://tidetotown.org/event/enmarket-encourage-health-live-series-explores-healthy-walking-routes/
LOCATION:Virtual Event
CATEGORIES:Education Program,Virtual Event
ATTACH;FMTTYPE=image/jpeg:https://tidetotown.org/wp-content/uploads/2020/12/Enmarket-Healthy.jpg
END:VEVENT
BEGIN:VEVENT
DTSTART;TZID=UTC:20201212T100000
DTEND;TZID=UTC:20201212T120000
DTSTAMP:20260423T052446
CREATED:20201207T144743Z
LAST-MODIFIED:20201210T195920Z
UID:442-1607767200-1607774400@tidetotown.org
SUMMARY:Love Your Trail Day: Truman Linear Park Trail
DESCRIPTION:Truman Linear Park Trail Phase 2A is the Savannah area’s newest trail and we want to make sure it’s neat and tidy from the start. Join us as we pick up any litter and collect recycling\, trim vegetation\, and make sure the trail is in tiptop shape. All tools and supplies will be provided.\nWe will be spatially distanced\, but masks are required. Meet at the Scarborough Sports Complex\, located at the corner of Skidaway Road and Bona Bella Avenue.
URL:https://tidetotown.org/event/love-your-trail-day-truman-linear-park-trail/
LOCATION:Scarborough Sports Complex\, Skidaway Road at Bona Bella Ave\, Savannah\, GA\, 31406\, United States
ATTACH;FMTTYPE=image/jpeg:https://tidetotown.org/wp-content/uploads/2020/10/Love-Your-Trail-Day-Truman-Linear-Park-Trail.jpg
ORGANIZER;CN="Friends of Tide to Town":MAILTO:friends@tidetotown.org
END:VEVENT
END:VCALENDAR